BEGIN:VCALENDAR
VERSION:2.0
PRODID:-//Crous Bourgogne-Franche-Comté - ECPv6.15.20//NONSGML v1.0//EN
CALSCALE:GREGORIAN
METHOD:PUBLISH
X-ORIGINAL-URL:https://www.crous-bfc.fr
X-WR-CALDESC:Évènements pour Crous Bourgogne-Franche-Comté
REFRESH-INTERVAL;VALUE=DURATION:PT1H
X-Robots-Tag:noindex
X-PUBLISHED-TTL:PT1H
BEGIN:VTIMEZONE
TZID:Europe/Paris
BEGIN:DAYLIGHT
TZOFFSETFROM:+0100
TZOFFSETTO:+0200
TZNAME:CEST
DTSTART:20260329T010000
END:DAYLIGHT
BEGIN:STANDARD
TZOFFSETFROM:+0200
TZOFFSETTO:+0100
TZNAME:CET
DTSTART:20261025T010000
END:STANDARD
BEGIN:DAYLIGHT
TZOFFSETFROM:+0100
TZOFFSETTO:+0200
TZNAME:CEST
DTSTART:20270328T010000
END:DAYLIGHT
BEGIN:STANDARD
TZOFFSETFROM:+0200
TZOFFSETTO:+0100
TZNAME:CET
DTSTART:20271031T010000
END:STANDARD
BEGIN:DAYLIGHT
TZOFFSETFROM:+0100
TZOFFSETTO:+0200
TZNAME:CEST
DTSTART:20280326T010000
END:DAYLIGHT
BEGIN:STANDARD
TZOFFSETFROM:+0200
TZOFFSETTO:+0100
TZNAME:CET
DTSTART:20281029T010000
END:STANDARD
END:VTIMEZONE
BEGIN:VEVENT
DTSTART;TZID=Europe/Paris:20270628T180000
DTEND;TZID=Europe/Paris:20270628T220000
DTSTAMP:20260425T052138
CREATED:20240909T075341Z
LAST-MODIFIED:20251009T072750Z
UID:10010064-1814205600-1814220000@www.crous-bfc.fr
SUMMARY:Cité Internationale du Jeu - Duvillard
DESCRIPTION:[vc_row][vc_column][vc_column_text]La Cité Internationale du Jeu a pour but de créer des rendez-vous réguliers\, qui permettent aux étudiants de passer des moments de détente et de convivialité autour des domaines ludique et vidéo-ludique. \nGratuit[/vc_column_text][/vc_column][/vc_row]
URL:https://www.crous-bfc.fr/evenement/cite-internationale-du-jeu-belfort-2-2/2027-06-28/
LOCATION:Résidence Duvillard\, Rue Ernest Duvillard\, Belfort\, 90016\, France
CATEGORIES:Animation,Nord Franche-Comté
ATTACH;FMTTYPE=image/png:https://www.crous-bfc.fr/wp-content/uploads/sites/7/2023/01/CIJ.png
END:VEVENT
BEGIN:VEVENT
DTSTART;TZID=Europe/Paris:20270629T180000
DTEND;TZID=Europe/Paris:20270629T220000
DTSTAMP:20260425T052138
CREATED:20240829T073818Z
LAST-MODIFIED:20251009T091125Z
UID:10008975-1814292000-1814306400@www.crous-bfc.fr
SUMMARY:Cité Internationale du Jeu - Résidence Portes du Jura
DESCRIPTION:[vc_row][vc_column][vc_column_text]La Cité Internationale du Jeu a pour but de créer des rendez-vous réguliers\, qui permettent aux étudiants de passer des moments de détente et de convivialité autour des domaines ludique et vidéo-ludique. \nGratuit[/vc_column_text][/vc_column][/vc_row]
URL:https://www.crous-bfc.fr/evenement/cite-internationale-du-jeu-duvillard-2-2/2027-06-29/
LOCATION:Résidence Portes du Jura\, 23 Rue Maurice Ravel\,\, Montbéliard\, 25200\, France
CATEGORIES:Animation,Nord Franche-Comté,Vie étudiante
ATTACH;FMTTYPE=image/png:https://www.crous-bfc.fr/wp-content/uploads/sites/7/2023/01/CIJ.png
END:VEVENT
BEGIN:VEVENT
DTSTART;TZID=Europe/Paris:20270630T140000
DTEND;TZID=Europe/Paris:20270630T180000
DTSTAMP:20260425T052138
CREATED:20260423T122322Z
LAST-MODIFIED:20260423T122648Z
UID:10018814-1814364000-1814378400@www.crous-bfc.fr
SUMMARY:Salon de beauté-bien être
DESCRIPTION:[vc_row][vc_column][vc_column_text css= » »]✨ Salon de beauté éphémère – Spécial Étudiants ✨\nVienez vous faire chouchouter gratuitement ! 💅💇‍♀️\nSalon de beauté éphémère ouvert à tous les étudiants\, sur rendez-vous uniquement via le lien en bio insta @viedecampus.besancon\n👉 Coiffure & ongles au programme\n📍 Atelier DIY\, (Li)VE . Places limitées\, pensez à réserver !\n📅 Événement 100% gratuit[/vc_column_text][/vc_column][/vc_row]
URL:https://www.crous-bfc.fr/evenement/salon-de-beaute-bien-etre-6-2/2027-06-30/
LOCATION:Atelier DIY – (Li)VE de Besançon\, 38 avenue de l'observatoire\, Besançon\, 25000\, France
CATEGORIES:Animation,Besançon et environs,Vie étudiante
ATTACH;FMTTYPE=image/png:https://www.crous-bfc.fr/wp-content/uploads/sites/7/2025/09/salon-de-beaute-et-bien-etre.png
END:VEVENT
BEGIN:VEVENT
DTSTART;TZID=Europe/Paris:20270701T120000
DTEND;TZID=Europe/Paris:20270701T160000
DTSTAMP:20260425T052138
CREATED:20250924T123550Z
LAST-MODIFIED:20251217T095542Z
UID:10017526-1814443200-1814457600@www.crous-bfc.fr
SUMMARY:Cité Internationale du Jeu - Le Creusot
DESCRIPTION:[vc_row][vc_column][vc_column_text]La Cité Internationale du Jeu a pour but de créer des rendez-vous réguliers\, qui permettent aux étudiants de passer des moments de détente et de convivialité autour des domaines ludique et vidéo-ludique. \nGratuit[/vc_column_text][/vc_column][/vc_row]
URL:https://www.crous-bfc.fr/evenement/cite-internationale-du-jeu-le-creusot-2-2/2027-07-01/
LOCATION:Le (Li)VE – Le Creusot\, 3 avenue Jean Monnet\, Le Creusot\, 71200
CATEGORIES:Animation,Le Creusot,Vie étudiante
ATTACH;FMTTYPE=image/png:https://www.crous-bfc.fr/wp-content/uploads/sites/7/2023/01/CIJ.png
END:VEVENT
BEGIN:VEVENT
DTSTART;TZID=Europe/Paris:20270702T180000
DTEND;TZID=Europe/Paris:20270702T220000
DTSTAMP:20260425T052138
CREATED:20251009T114614Z
LAST-MODIFIED:20251009T114614Z
UID:10016755-1814551200-1814565600@www.crous-bfc.fr
SUMMARY:Cité Internationale du Jeu - Résidence Portes du Jura
DESCRIPTION:[vc_row][vc_column][vc_column_text]La Cité Internationale du Jeu a pour but de créer des rendez-vous réguliers\, qui permettent aux étudiants de passer des moments de détente et de convivialité autour des domaines ludique et vidéo-ludique. \nGratuit[/vc_column_text][/vc_column][/vc_row]
URL:https://www.crous-bfc.fr/evenement/cite-internationale-du-jeu-residence-portes-du-jura/2027-07-02/
LOCATION:Résidence Portes du Jura\, 23 Rue Maurice Ravel\,\, Montbéliard\, 25200\, France
CATEGORIES:Animation,Nord Franche-Comté,Vie étudiante
ATTACH;FMTTYPE=image/png:https://www.crous-bfc.fr/wp-content/uploads/sites/7/2023/01/CIJ.png
END:VEVENT
BEGIN:VEVENT
DTSTART;TZID=Europe/Paris:20270705T180000
DTEND;TZID=Europe/Paris:20270705T220000
DTSTAMP:20260425T052138
CREATED:20240909T075341Z
LAST-MODIFIED:20251009T072750Z
UID:10010065-1814810400-1814824800@www.crous-bfc.fr
SUMMARY:Cité Internationale du Jeu - Duvillard
DESCRIPTION:[vc_row][vc_column][vc_column_text]La Cité Internationale du Jeu a pour but de créer des rendez-vous réguliers\, qui permettent aux étudiants de passer des moments de détente et de convivialité autour des domaines ludique et vidéo-ludique. \nGratuit[/vc_column_text][/vc_column][/vc_row]
URL:https://www.crous-bfc.fr/evenement/cite-internationale-du-jeu-belfort-2-2/2027-07-05/
LOCATION:Résidence Duvillard\, Rue Ernest Duvillard\, Belfort\, 90016\, France
CATEGORIES:Animation,Nord Franche-Comté
ATTACH;FMTTYPE=image/png:https://www.crous-bfc.fr/wp-content/uploads/sites/7/2023/01/CIJ.png
END:VEVENT
BEGIN:VEVENT
DTSTART;TZID=Europe/Paris:20270706T180000
DTEND;TZID=Europe/Paris:20270706T220000
DTSTAMP:20260425T052138
CREATED:20240829T073818Z
LAST-MODIFIED:20251009T091125Z
UID:10008976-1814896800-1814911200@www.crous-bfc.fr
SUMMARY:Cité Internationale du Jeu - Résidence Portes du Jura
DESCRIPTION:[vc_row][vc_column][vc_column_text]La Cité Internationale du Jeu a pour but de créer des rendez-vous réguliers\, qui permettent aux étudiants de passer des moments de détente et de convivialité autour des domaines ludique et vidéo-ludique. \nGratuit[/vc_column_text][/vc_column][/vc_row]
URL:https://www.crous-bfc.fr/evenement/cite-internationale-du-jeu-duvillard-2-2/2027-07-06/
LOCATION:Résidence Portes du Jura\, 23 Rue Maurice Ravel\,\, Montbéliard\, 25200\, France
CATEGORIES:Animation,Nord Franche-Comté,Vie étudiante
ATTACH;FMTTYPE=image/png:https://www.crous-bfc.fr/wp-content/uploads/sites/7/2023/01/CIJ.png
END:VEVENT
BEGIN:VEVENT
DTSTART;TZID=Europe/Paris:20270708T120000
DTEND;TZID=Europe/Paris:20270708T160000
DTSTAMP:20260425T052138
CREATED:20250924T123550Z
LAST-MODIFIED:20251217T095542Z
UID:10017527-1815048000-1815062400@www.crous-bfc.fr
SUMMARY:Cité Internationale du Jeu - Le Creusot
DESCRIPTION:[vc_row][vc_column][vc_column_text]La Cité Internationale du Jeu a pour but de créer des rendez-vous réguliers\, qui permettent aux étudiants de passer des moments de détente et de convivialité autour des domaines ludique et vidéo-ludique. \nGratuit[/vc_column_text][/vc_column][/vc_row]
URL:https://www.crous-bfc.fr/evenement/cite-internationale-du-jeu-le-creusot-2-2/2027-07-08/
LOCATION:Le (Li)VE – Le Creusot\, 3 avenue Jean Monnet\, Le Creusot\, 71200
CATEGORIES:Animation,Le Creusot,Vie étudiante
ATTACH;FMTTYPE=image/png:https://www.crous-bfc.fr/wp-content/uploads/sites/7/2023/01/CIJ.png
END:VEVENT
BEGIN:VEVENT
DTSTART;TZID=Europe/Paris:20270709T180000
DTEND;TZID=Europe/Paris:20270709T220000
DTSTAMP:20260425T052138
CREATED:20251009T114614Z
LAST-MODIFIED:20251009T114614Z
UID:10016756-1815156000-1815170400@www.crous-bfc.fr
SUMMARY:Cité Internationale du Jeu - Résidence Portes du Jura
DESCRIPTION:[vc_row][vc_column][vc_column_text]La Cité Internationale du Jeu a pour but de créer des rendez-vous réguliers\, qui permettent aux étudiants de passer des moments de détente et de convivialité autour des domaines ludique et vidéo-ludique. \nGratuit[/vc_column_text][/vc_column][/vc_row]
URL:https://www.crous-bfc.fr/evenement/cite-internationale-du-jeu-residence-portes-du-jura/2027-07-09/
LOCATION:Résidence Portes du Jura\, 23 Rue Maurice Ravel\,\, Montbéliard\, 25200\, France
CATEGORIES:Animation,Nord Franche-Comté,Vie étudiante
ATTACH;FMTTYPE=image/png:https://www.crous-bfc.fr/wp-content/uploads/sites/7/2023/01/CIJ.png
END:VEVENT
BEGIN:VEVENT
DTSTART;TZID=Europe/Paris:20270712T180000
DTEND;TZID=Europe/Paris:20270712T220000
DTSTAMP:20260425T052138
CREATED:20240909T075341Z
LAST-MODIFIED:20251009T072750Z
UID:10010066-1815415200-1815429600@www.crous-bfc.fr
SUMMARY:Cité Internationale du Jeu - Duvillard
DESCRIPTION:[vc_row][vc_column][vc_column_text]La Cité Internationale du Jeu a pour but de créer des rendez-vous réguliers\, qui permettent aux étudiants de passer des moments de détente et de convivialité autour des domaines ludique et vidéo-ludique. \nGratuit[/vc_column_text][/vc_column][/vc_row]
URL:https://www.crous-bfc.fr/evenement/cite-internationale-du-jeu-belfort-2-2/2027-07-12/
LOCATION:Résidence Duvillard\, Rue Ernest Duvillard\, Belfort\, 90016\, France
CATEGORIES:Animation,Nord Franche-Comté
ATTACH;FMTTYPE=image/png:https://www.crous-bfc.fr/wp-content/uploads/sites/7/2023/01/CIJ.png
END:VEVENT
BEGIN:VEVENT
DTSTART;TZID=Europe/Paris:20270713T180000
DTEND;TZID=Europe/Paris:20270713T220000
DTSTAMP:20260425T052138
CREATED:20240829T073818Z
LAST-MODIFIED:20251009T091125Z
UID:10008977-1815501600-1815516000@www.crous-bfc.fr
SUMMARY:Cité Internationale du Jeu - Résidence Portes du Jura
DESCRIPTION:[vc_row][vc_column][vc_column_text]La Cité Internationale du Jeu a pour but de créer des rendez-vous réguliers\, qui permettent aux étudiants de passer des moments de détente et de convivialité autour des domaines ludique et vidéo-ludique. \nGratuit[/vc_column_text][/vc_column][/vc_row]
URL:https://www.crous-bfc.fr/evenement/cite-internationale-du-jeu-duvillard-2-2/2027-07-13/
LOCATION:Résidence Portes du Jura\, 23 Rue Maurice Ravel\,\, Montbéliard\, 25200\, France
CATEGORIES:Animation,Nord Franche-Comté,Vie étudiante
ATTACH;FMTTYPE=image/png:https://www.crous-bfc.fr/wp-content/uploads/sites/7/2023/01/CIJ.png
END:VEVENT
BEGIN:VEVENT
DTSTART;TZID=Europe/Paris:20270714T140000
DTEND;TZID=Europe/Paris:20270714T180000
DTSTAMP:20260425T052138
CREATED:20260423T122322Z
LAST-MODIFIED:20260423T122648Z
UID:10018815-1815573600-1815588000@www.crous-bfc.fr
SUMMARY:Salon de beauté-bien être
DESCRIPTION:[vc_row][vc_column][vc_column_text css= » »]✨ Salon de beauté éphémère – Spécial Étudiants ✨\nVienez vous faire chouchouter gratuitement ! 💅💇‍♀️\nSalon de beauté éphémère ouvert à tous les étudiants\, sur rendez-vous uniquement via le lien en bio insta @viedecampus.besancon\n👉 Coiffure & ongles au programme\n📍 Atelier DIY\, (Li)VE . Places limitées\, pensez à réserver !\n📅 Événement 100% gratuit[/vc_column_text][/vc_column][/vc_row]
URL:https://www.crous-bfc.fr/evenement/salon-de-beaute-bien-etre-6-2/2027-07-14/
LOCATION:Atelier DIY – (Li)VE de Besançon\, 38 avenue de l'observatoire\, Besançon\, 25000\, France
CATEGORIES:Animation,Besançon et environs,Vie étudiante
ATTACH;FMTTYPE=image/png:https://www.crous-bfc.fr/wp-content/uploads/sites/7/2025/09/salon-de-beaute-et-bien-etre.png
END:VEVENT
BEGIN:VEVENT
DTSTART;TZID=Europe/Paris:20270715T120000
DTEND;TZID=Europe/Paris:20270715T160000
DTSTAMP:20260425T052138
CREATED:20250924T123550Z
LAST-MODIFIED:20251217T095542Z
UID:10017528-1815652800-1815667200@www.crous-bfc.fr
SUMMARY:Cité Internationale du Jeu - Le Creusot
DESCRIPTION:[vc_row][vc_column][vc_column_text]La Cité Internationale du Jeu a pour but de créer des rendez-vous réguliers\, qui permettent aux étudiants de passer des moments de détente et de convivialité autour des domaines ludique et vidéo-ludique. \nGratuit[/vc_column_text][/vc_column][/vc_row]
URL:https://www.crous-bfc.fr/evenement/cite-internationale-du-jeu-le-creusot-2-2/2027-07-15/
LOCATION:Le (Li)VE – Le Creusot\, 3 avenue Jean Monnet\, Le Creusot\, 71200
CATEGORIES:Animation,Le Creusot,Vie étudiante
ATTACH;FMTTYPE=image/png:https://www.crous-bfc.fr/wp-content/uploads/sites/7/2023/01/CIJ.png
END:VEVENT
BEGIN:VEVENT
DTSTART;TZID=Europe/Paris:20270716T180000
DTEND;TZID=Europe/Paris:20270716T220000
DTSTAMP:20260425T052138
CREATED:20251009T114614Z
LAST-MODIFIED:20251009T114614Z
UID:10016757-1815760800-1815775200@www.crous-bfc.fr
SUMMARY:Cité Internationale du Jeu - Résidence Portes du Jura
DESCRIPTION:[vc_row][vc_column][vc_column_text]La Cité Internationale du Jeu a pour but de créer des rendez-vous réguliers\, qui permettent aux étudiants de passer des moments de détente et de convivialité autour des domaines ludique et vidéo-ludique. \nGratuit[/vc_column_text][/vc_column][/vc_row]
URL:https://www.crous-bfc.fr/evenement/cite-internationale-du-jeu-residence-portes-du-jura/2027-07-16/
LOCATION:Résidence Portes du Jura\, 23 Rue Maurice Ravel\,\, Montbéliard\, 25200\, France
CATEGORIES:Animation,Nord Franche-Comté,Vie étudiante
ATTACH;FMTTYPE=image/png:https://www.crous-bfc.fr/wp-content/uploads/sites/7/2023/01/CIJ.png
END:VEVENT
BEGIN:VEVENT
DTSTART;TZID=Europe/Paris:20270719T180000
DTEND;TZID=Europe/Paris:20270719T220000
DTSTAMP:20260425T052138
CREATED:20240909T075341Z
LAST-MODIFIED:20251009T072750Z
UID:10010067-1816020000-1816034400@www.crous-bfc.fr
SUMMARY:Cité Internationale du Jeu - Duvillard
DESCRIPTION:[vc_row][vc_column][vc_column_text]La Cité Internationale du Jeu a pour but de créer des rendez-vous réguliers\, qui permettent aux étudiants de passer des moments de détente et de convivialité autour des domaines ludique et vidéo-ludique. \nGratuit[/vc_column_text][/vc_column][/vc_row]
URL:https://www.crous-bfc.fr/evenement/cite-internationale-du-jeu-belfort-2-2/2027-07-19/
LOCATION:Résidence Duvillard\, Rue Ernest Duvillard\, Belfort\, 90016\, France
CATEGORIES:Animation,Nord Franche-Comté
ATTACH;FMTTYPE=image/png:https://www.crous-bfc.fr/wp-content/uploads/sites/7/2023/01/CIJ.png
END:VEVENT
BEGIN:VEVENT
DTSTART;TZID=Europe/Paris:20270720T180000
DTEND;TZID=Europe/Paris:20270720T220000
DTSTAMP:20260425T052138
CREATED:20240829T073818Z
LAST-MODIFIED:20251009T091125Z
UID:10008978-1816106400-1816120800@www.crous-bfc.fr
SUMMARY:Cité Internationale du Jeu - Résidence Portes du Jura
DESCRIPTION:[vc_row][vc_column][vc_column_text]La Cité Internationale du Jeu a pour but de créer des rendez-vous réguliers\, qui permettent aux étudiants de passer des moments de détente et de convivialité autour des domaines ludique et vidéo-ludique. \nGratuit[/vc_column_text][/vc_column][/vc_row]
URL:https://www.crous-bfc.fr/evenement/cite-internationale-du-jeu-duvillard-2-2/2027-07-20/
LOCATION:Résidence Portes du Jura\, 23 Rue Maurice Ravel\,\, Montbéliard\, 25200\, France
CATEGORIES:Animation,Nord Franche-Comté,Vie étudiante
ATTACH;FMTTYPE=image/png:https://www.crous-bfc.fr/wp-content/uploads/sites/7/2023/01/CIJ.png
END:VEVENT
BEGIN:VEVENT
DTSTART;TZID=Europe/Paris:20270722T120000
DTEND;TZID=Europe/Paris:20270722T160000
DTSTAMP:20260425T052138
CREATED:20250924T123550Z
LAST-MODIFIED:20251217T095542Z
UID:10017529-1816257600-1816272000@www.crous-bfc.fr
SUMMARY:Cité Internationale du Jeu - Le Creusot
DESCRIPTION:[vc_row][vc_column][vc_column_text]La Cité Internationale du Jeu a pour but de créer des rendez-vous réguliers\, qui permettent aux étudiants de passer des moments de détente et de convivialité autour des domaines ludique et vidéo-ludique. \nGratuit[/vc_column_text][/vc_column][/vc_row]
URL:https://www.crous-bfc.fr/evenement/cite-internationale-du-jeu-le-creusot-2-2/2027-07-22/
LOCATION:Le (Li)VE – Le Creusot\, 3 avenue Jean Monnet\, Le Creusot\, 71200
CATEGORIES:Animation,Le Creusot,Vie étudiante
ATTACH;FMTTYPE=image/png:https://www.crous-bfc.fr/wp-content/uploads/sites/7/2023/01/CIJ.png
END:VEVENT
BEGIN:VEVENT
DTSTART;TZID=Europe/Paris:20270723T180000
DTEND;TZID=Europe/Paris:20270723T220000
DTSTAMP:20260425T052138
CREATED:20251009T114614Z
LAST-MODIFIED:20251009T114614Z
UID:10016758-1816365600-1816380000@www.crous-bfc.fr
SUMMARY:Cité Internationale du Jeu - Résidence Portes du Jura
DESCRIPTION:[vc_row][vc_column][vc_column_text]La Cité Internationale du Jeu a pour but de créer des rendez-vous réguliers\, qui permettent aux étudiants de passer des moments de détente et de convivialité autour des domaines ludique et vidéo-ludique. \nGratuit[/vc_column_text][/vc_column][/vc_row]
URL:https://www.crous-bfc.fr/evenement/cite-internationale-du-jeu-residence-portes-du-jura/2027-07-23/
LOCATION:Résidence Portes du Jura\, 23 Rue Maurice Ravel\,\, Montbéliard\, 25200\, France
CATEGORIES:Animation,Nord Franche-Comté,Vie étudiante
ATTACH;FMTTYPE=image/png:https://www.crous-bfc.fr/wp-content/uploads/sites/7/2023/01/CIJ.png
END:VEVENT
BEGIN:VEVENT
DTSTART;TZID=Europe/Paris:20270726T180000
DTEND;TZID=Europe/Paris:20270726T220000
DTSTAMP:20260425T052138
CREATED:20240909T075341Z
LAST-MODIFIED:20251009T072750Z
UID:10010068-1816624800-1816639200@www.crous-bfc.fr
SUMMARY:Cité Internationale du Jeu - Duvillard
DESCRIPTION:[vc_row][vc_column][vc_column_text]La Cité Internationale du Jeu a pour but de créer des rendez-vous réguliers\, qui permettent aux étudiants de passer des moments de détente et de convivialité autour des domaines ludique et vidéo-ludique. \nGratuit[/vc_column_text][/vc_column][/vc_row]
URL:https://www.crous-bfc.fr/evenement/cite-internationale-du-jeu-belfort-2-2/2027-07-26/
LOCATION:Résidence Duvillard\, Rue Ernest Duvillard\, Belfort\, 90016\, France
CATEGORIES:Animation,Nord Franche-Comté
ATTACH;FMTTYPE=image/png:https://www.crous-bfc.fr/wp-content/uploads/sites/7/2023/01/CIJ.png
END:VEVENT
BEGIN:VEVENT
DTSTART;TZID=Europe/Paris:20270727T180000
DTEND;TZID=Europe/Paris:20270727T220000
DTSTAMP:20260425T052138
CREATED:20240829T073818Z
LAST-MODIFIED:20251009T091125Z
UID:10008979-1816711200-1816725600@www.crous-bfc.fr
SUMMARY:Cité Internationale du Jeu - Résidence Portes du Jura
DESCRIPTION:[vc_row][vc_column][vc_column_text]La Cité Internationale du Jeu a pour but de créer des rendez-vous réguliers\, qui permettent aux étudiants de passer des moments de détente et de convivialité autour des domaines ludique et vidéo-ludique. \nGratuit[/vc_column_text][/vc_column][/vc_row]
URL:https://www.crous-bfc.fr/evenement/cite-internationale-du-jeu-duvillard-2-2/2027-07-27/
LOCATION:Résidence Portes du Jura\, 23 Rue Maurice Ravel\,\, Montbéliard\, 25200\, France
CATEGORIES:Animation,Nord Franche-Comté,Vie étudiante
ATTACH;FMTTYPE=image/png:https://www.crous-bfc.fr/wp-content/uploads/sites/7/2023/01/CIJ.png
END:VEVENT
BEGIN:VEVENT
DTSTART;TZID=Europe/Paris:20270728T140000
DTEND;TZID=Europe/Paris:20270728T180000
DTSTAMP:20260425T052138
CREATED:20260423T122322Z
LAST-MODIFIED:20260423T122648Z
UID:10018816-1816783200-1816797600@www.crous-bfc.fr
SUMMARY:Salon de beauté-bien être
DESCRIPTION:[vc_row][vc_column][vc_column_text css= » »]✨ Salon de beauté éphémère – Spécial Étudiants ✨\nVienez vous faire chouchouter gratuitement ! 💅💇‍♀️\nSalon de beauté éphémère ouvert à tous les étudiants\, sur rendez-vous uniquement via le lien en bio insta @viedecampus.besancon\n👉 Coiffure & ongles au programme\n📍 Atelier DIY\, (Li)VE . Places limitées\, pensez à réserver !\n📅 Événement 100% gratuit[/vc_column_text][/vc_column][/vc_row]
URL:https://www.crous-bfc.fr/evenement/salon-de-beaute-bien-etre-6-2/2027-07-28/
LOCATION:Atelier DIY – (Li)VE de Besançon\, 38 avenue de l'observatoire\, Besançon\, 25000\, France
CATEGORIES:Animation,Besançon et environs,Vie étudiante
ATTACH;FMTTYPE=image/png:https://www.crous-bfc.fr/wp-content/uploads/sites/7/2025/09/salon-de-beaute-et-bien-etre.png
END:VEVENT
BEGIN:VEVENT
DTSTART;TZID=Europe/Paris:20270729T120000
DTEND;TZID=Europe/Paris:20270729T160000
DTSTAMP:20260425T052138
CREATED:20250924T123550Z
LAST-MODIFIED:20251217T095542Z
UID:10017530-1816862400-1816876800@www.crous-bfc.fr
SUMMARY:Cité Internationale du Jeu - Le Creusot
DESCRIPTION:[vc_row][vc_column][vc_column_text]La Cité Internationale du Jeu a pour but de créer des rendez-vous réguliers\, qui permettent aux étudiants de passer des moments de détente et de convivialité autour des domaines ludique et vidéo-ludique. \nGratuit[/vc_column_text][/vc_column][/vc_row]
URL:https://www.crous-bfc.fr/evenement/cite-internationale-du-jeu-le-creusot-2-2/2027-07-29/
LOCATION:Le (Li)VE – Le Creusot\, 3 avenue Jean Monnet\, Le Creusot\, 71200
CATEGORIES:Animation,Le Creusot,Vie étudiante
ATTACH;FMTTYPE=image/png:https://www.crous-bfc.fr/wp-content/uploads/sites/7/2023/01/CIJ.png
END:VEVENT
BEGIN:VEVENT
DTSTART;TZID=Europe/Paris:20270730T180000
DTEND;TZID=Europe/Paris:20270730T220000
DTSTAMP:20260425T052138
CREATED:20251009T114614Z
LAST-MODIFIED:20251009T114614Z
UID:10016759-1816970400-1816984800@www.crous-bfc.fr
SUMMARY:Cité Internationale du Jeu - Résidence Portes du Jura
DESCRIPTION:[vc_row][vc_column][vc_column_text]La Cité Internationale du Jeu a pour but de créer des rendez-vous réguliers\, qui permettent aux étudiants de passer des moments de détente et de convivialité autour des domaines ludique et vidéo-ludique. \nGratuit[/vc_column_text][/vc_column][/vc_row]
URL:https://www.crous-bfc.fr/evenement/cite-internationale-du-jeu-residence-portes-du-jura/2027-07-30/
LOCATION:Résidence Portes du Jura\, 23 Rue Maurice Ravel\,\, Montbéliard\, 25200\, France
CATEGORIES:Animation,Nord Franche-Comté,Vie étudiante
ATTACH;FMTTYPE=image/png:https://www.crous-bfc.fr/wp-content/uploads/sites/7/2023/01/CIJ.png
END:VEVENT
BEGIN:VEVENT
DTSTART;TZID=Europe/Paris:20270802T180000
DTEND;TZID=Europe/Paris:20270802T220000
DTSTAMP:20260425T052138
CREATED:20240909T075341Z
LAST-MODIFIED:20251009T072750Z
UID:10010069-1817229600-1817244000@www.crous-bfc.fr
SUMMARY:Cité Internationale du Jeu - Duvillard
DESCRIPTION:[vc_row][vc_column][vc_column_text]La Cité Internationale du Jeu a pour but de créer des rendez-vous réguliers\, qui permettent aux étudiants de passer des moments de détente et de convivialité autour des domaines ludique et vidéo-ludique. \nGratuit[/vc_column_text][/vc_column][/vc_row]
URL:https://www.crous-bfc.fr/evenement/cite-internationale-du-jeu-belfort-2-2/2027-08-02/
LOCATION:Résidence Duvillard\, Rue Ernest Duvillard\, Belfort\, 90016\, France
CATEGORIES:Animation,Nord Franche-Comté
ATTACH;FMTTYPE=image/png:https://www.crous-bfc.fr/wp-content/uploads/sites/7/2023/01/CIJ.png
END:VEVENT
BEGIN:VEVENT
DTSTART;TZID=Europe/Paris:20270803T180000
DTEND;TZID=Europe/Paris:20270803T220000
DTSTAMP:20260425T052138
CREATED:20240829T073818Z
LAST-MODIFIED:20251009T091125Z
UID:10008980-1817316000-1817330400@www.crous-bfc.fr
SUMMARY:Cité Internationale du Jeu - Résidence Portes du Jura
DESCRIPTION:[vc_row][vc_column][vc_column_text]La Cité Internationale du Jeu a pour but de créer des rendez-vous réguliers\, qui permettent aux étudiants de passer des moments de détente et de convivialité autour des domaines ludique et vidéo-ludique. \nGratuit[/vc_column_text][/vc_column][/vc_row]
URL:https://www.crous-bfc.fr/evenement/cite-internationale-du-jeu-duvillard-2-2/2027-08-03/
LOCATION:Résidence Portes du Jura\, 23 Rue Maurice Ravel\,\, Montbéliard\, 25200\, France
CATEGORIES:Animation,Nord Franche-Comté,Vie étudiante
ATTACH;FMTTYPE=image/png:https://www.crous-bfc.fr/wp-content/uploads/sites/7/2023/01/CIJ.png
END:VEVENT
BEGIN:VEVENT
DTSTART;TZID=Europe/Paris:20270805T120000
DTEND;TZID=Europe/Paris:20270805T160000
DTSTAMP:20260425T052138
CREATED:20250924T123550Z
LAST-MODIFIED:20251217T095542Z
UID:10017531-1817467200-1817481600@www.crous-bfc.fr
SUMMARY:Cité Internationale du Jeu - Le Creusot
DESCRIPTION:[vc_row][vc_column][vc_column_text]La Cité Internationale du Jeu a pour but de créer des rendez-vous réguliers\, qui permettent aux étudiants de passer des moments de détente et de convivialité autour des domaines ludique et vidéo-ludique. \nGratuit[/vc_column_text][/vc_column][/vc_row]
URL:https://www.crous-bfc.fr/evenement/cite-internationale-du-jeu-le-creusot-2-2/2027-08-05/
LOCATION:Le (Li)VE – Le Creusot\, 3 avenue Jean Monnet\, Le Creusot\, 71200
CATEGORIES:Animation,Le Creusot,Vie étudiante
ATTACH;FMTTYPE=image/png:https://www.crous-bfc.fr/wp-content/uploads/sites/7/2023/01/CIJ.png
END:VEVENT
BEGIN:VEVENT
DTSTART;TZID=Europe/Paris:20270806T180000
DTEND;TZID=Europe/Paris:20270806T220000
DTSTAMP:20260425T052138
CREATED:20251009T114614Z
LAST-MODIFIED:20251009T114614Z
UID:10016760-1817575200-1817589600@www.crous-bfc.fr
SUMMARY:Cité Internationale du Jeu - Résidence Portes du Jura
DESCRIPTION:[vc_row][vc_column][vc_column_text]La Cité Internationale du Jeu a pour but de créer des rendez-vous réguliers\, qui permettent aux étudiants de passer des moments de détente et de convivialité autour des domaines ludique et vidéo-ludique. \nGratuit[/vc_column_text][/vc_column][/vc_row]
URL:https://www.crous-bfc.fr/evenement/cite-internationale-du-jeu-residence-portes-du-jura/2027-08-06/
LOCATION:Résidence Portes du Jura\, 23 Rue Maurice Ravel\,\, Montbéliard\, 25200\, France
CATEGORIES:Animation,Nord Franche-Comté,Vie étudiante
ATTACH;FMTTYPE=image/png:https://www.crous-bfc.fr/wp-content/uploads/sites/7/2023/01/CIJ.png
END:VEVENT
BEGIN:VEVENT
DTSTART;TZID=Europe/Paris:20270809T180000
DTEND;TZID=Europe/Paris:20270809T220000
DTSTAMP:20260425T052138
CREATED:20240909T075341Z
LAST-MODIFIED:20251009T072750Z
UID:10010070-1817834400-1817848800@www.crous-bfc.fr
SUMMARY:Cité Internationale du Jeu - Duvillard
DESCRIPTION:[vc_row][vc_column][vc_column_text]La Cité Internationale du Jeu a pour but de créer des rendez-vous réguliers\, qui permettent aux étudiants de passer des moments de détente et de convivialité autour des domaines ludique et vidéo-ludique. \nGratuit[/vc_column_text][/vc_column][/vc_row]
URL:https://www.crous-bfc.fr/evenement/cite-internationale-du-jeu-belfort-2-2/2027-08-09/
LOCATION:Résidence Duvillard\, Rue Ernest Duvillard\, Belfort\, 90016\, France
CATEGORIES:Animation,Nord Franche-Comté
ATTACH;FMTTYPE=image/png:https://www.crous-bfc.fr/wp-content/uploads/sites/7/2023/01/CIJ.png
END:VEVENT
BEGIN:VEVENT
DTSTART;TZID=Europe/Paris:20270810T180000
DTEND;TZID=Europe/Paris:20270810T220000
DTSTAMP:20260425T052138
CREATED:20240829T073818Z
LAST-MODIFIED:20251009T091125Z
UID:10008981-1817920800-1817935200@www.crous-bfc.fr
SUMMARY:Cité Internationale du Jeu - Résidence Portes du Jura
DESCRIPTION:[vc_row][vc_column][vc_column_text]La Cité Internationale du Jeu a pour but de créer des rendez-vous réguliers\, qui permettent aux étudiants de passer des moments de détente et de convivialité autour des domaines ludique et vidéo-ludique. \nGratuit[/vc_column_text][/vc_column][/vc_row]
URL:https://www.crous-bfc.fr/evenement/cite-internationale-du-jeu-duvillard-2-2/2027-08-10/
LOCATION:Résidence Portes du Jura\, 23 Rue Maurice Ravel\,\, Montbéliard\, 25200\, France
CATEGORIES:Animation,Nord Franche-Comté,Vie étudiante
ATTACH;FMTTYPE=image/png:https://www.crous-bfc.fr/wp-content/uploads/sites/7/2023/01/CIJ.png
END:VEVENT
BEGIN:VEVENT
DTSTART;TZID=Europe/Paris:20270811T140000
DTEND;TZID=Europe/Paris:20270811T180000
DTSTAMP:20260425T052138
CREATED:20260423T122322Z
LAST-MODIFIED:20260423T122648Z
UID:10018817-1817992800-1818007200@www.crous-bfc.fr
SUMMARY:Salon de beauté-bien être
DESCRIPTION:[vc_row][vc_column][vc_column_text css= » »]✨ Salon de beauté éphémère – Spécial Étudiants ✨\nVienez vous faire chouchouter gratuitement ! 💅💇‍♀️\nSalon de beauté éphémère ouvert à tous les étudiants\, sur rendez-vous uniquement via le lien en bio insta @viedecampus.besancon\n👉 Coiffure & ongles au programme\n📍 Atelier DIY\, (Li)VE . Places limitées\, pensez à réserver !\n📅 Événement 100% gratuit[/vc_column_text][/vc_column][/vc_row]
URL:https://www.crous-bfc.fr/evenement/salon-de-beaute-bien-etre-6-2/2027-08-11/
LOCATION:Atelier DIY – (Li)VE de Besançon\, 38 avenue de l'observatoire\, Besançon\, 25000\, France
CATEGORIES:Animation,Besançon et environs,Vie étudiante
ATTACH;FMTTYPE=image/png:https://www.crous-bfc.fr/wp-content/uploads/sites/7/2025/09/salon-de-beaute-et-bien-etre.png
END:VEVENT
END:VCALENDAR