BEGIN:VCALENDAR
VERSION:2.0
PRODID:-//Crous Bourgogne-Franche-Comté - ECPv6.15.20//NONSGML v1.0//EN
CALSCALE:GREGORIAN
METHOD:PUBLISH
X-WR-CALNAME:Crous Bourgogne-Franche-Comté
X-ORIGINAL-URL:https://www.crous-bfc.fr
X-WR-CALDESC:Évènements pour Crous Bourgogne-Franche-Comté
REFRESH-INTERVAL;VALUE=DURATION:PT1H
X-Robots-Tag:noindex
X-PUBLISHED-TTL:PT1H
BEGIN:VTIMEZONE
TZID:Europe/Paris
BEGIN:DAYLIGHT
TZOFFSETFROM:+0100
TZOFFSETTO:+0200
TZNAME:CEST
DTSTART:20250330T010000
END:DAYLIGHT
BEGIN:STANDARD
TZOFFSETFROM:+0200
TZOFFSETTO:+0100
TZNAME:CET
DTSTART:20251026T010000
END:STANDARD
BEGIN:DAYLIGHT
TZOFFSETFROM:+0100
TZOFFSETTO:+0200
TZNAME:CEST
DTSTART:20260329T010000
END:DAYLIGHT
BEGIN:STANDARD
TZOFFSETFROM:+0200
TZOFFSETTO:+0100
TZNAME:CET
DTSTART:20261025T010000
END:STANDARD
BEGIN:DAYLIGHT
TZOFFSETFROM:+0100
TZOFFSETTO:+0200
TZNAME:CEST
DTSTART:20270328T010000
END:DAYLIGHT
BEGIN:STANDARD
TZOFFSETFROM:+0200
TZOFFSETTO:+0100
TZNAME:CET
DTSTART:20271031T010000
END:STANDARD
END:VTIMEZONE
BEGIN:VEVENT
DTSTART;VALUE=DATE:20260225
DTEND;VALUE=DATE:20260618
DTSTAMP:20260426T014545
CREATED:20260115T095607Z
LAST-MODIFIED:20260115T095607Z
UID:10678-1771977600-1781740799@www.crous-bfc.fr
SUMMARY:Exposition : Encre belle & rebelle - Tiffany Kleinbeck-Peset\, Assia\, Martine\, Noah\, Nina\, Anissah\, Camille & Olane
DESCRIPTION:[vc_row][vc_column][vc_column_text css= » »]Comment transformer son expérience de spectateur.ice en objet artistique ? Voilà ce sur quoi un groupe d’étudiant.e.s a travaillé pendant plusieurs mois au Théâtre Mansart. Accompagné.e.s par l’artiste et médiatrice Tiffany Kleinbeck-Peset\, iels ont produit un podcast en plusieurs épisodes et une série de fanzines. Cette exposition est le fruit de leurs recherches\, de leurs tentatives artistiques\, de leur processus créatif. \n\nEn partenariat avec Radio Dijon Campus \n\n[/vc_column_text][/vc_column][/vc_row][vc_row][vc_column][vc_infobox] \n\n\n\n\n\n\nLes fanzines sont à récupérer au Théâtre Mansart\nLes épisodes du podcast sont à écouter sur Radio Dijon Campus\nL’exposition est gratuite et en accès libre dans le hall du théâtre (9h30-17h). \n\n\n\n\n\n\n[/vc_infobox][/vc_column][/vc_row]
URL:https://www.crous-bfc.fr/evenement/exposition-encre-belle-rebelle-tiffany-kleinbeck-peset-assia-martine-noah-nina-anissah-camille-olane/
LOCATION:Théâtre Mansart\, 94\, boulevard Mansart\, Dijon\, 21000\, France
CATEGORIES:Culture,Dijon et environs,Exposition
ATTACH;FMTTYPE=image/jpeg:https://www.crous-bfc.fr/wp-content/uploads/sites/7/2026/01/CROUS-BFC-TM-expofanzine.jpg
END:VEVENT
END:VCALENDAR